BEGIN:VCALENDAR
VERSION:2.0
PRODID:-//YourOrganization//EventDownload//DE
CALSCALE:GREGORIAN
METHOD:PUBLISH
BEGIN:VEVENT
UID:69e5ced8a87ec@leapup.bitshifters.cloud
DTSTAMP:20260420T085936Z
DTSTART:20201109T090000Z
DTEND:20201110T170000Z
SUMMARY:Online-Seminar Gentechnikrecht: Gefährdungspotentiale\, Sicherheitsmaßnahmen und Rechtsvorschriften
DESCRIPTION:Staatlich anerkannte Fortbildungsveranstaltung f&uuml\;r Projektleiter und BBS gem&auml\;&szlig\; &sect\; 15 (2) GenTSV\nIn Vortr&auml\;gen und Diskussionen werden aktuelle gentechnikrechtliche\, biologische und technisch-organisatorische Sicherheitsaspekte behandelt. In einer Art &Uuml\;bersicht wird die Einbindung des EG-Rechts in nationales Recht vermittelt und neue &Auml\;nderungen des europ&auml\;ischen und nationalen Rechts behandelt. Weiterhin werden ausgesuchte Beispiele zur Gesamtbewertung von gentechnisch ver&auml\;nderten Organismen vorgestellt. Im Detail werden Sicherheitsma&szlig\;nahmen f&uuml\;r Labor und Betrieb sowie f&uuml\;r die Freisetzung in Abh&auml\;ngigkeit von den Sicherheitsstufen vermittelt. Die Pflichten und Aufgaben des Projektleiters sowie des Beauftragten f&uuml\;r die Biologische Sicherheit (BBS) werden ausf&uuml\;hrlich diskutiert.\nWeitere Informationen und Anmeldung hier
END:VEVENT
END:VCALENDAR
