BEGIN:VCALENDAR
VERSION:2.0
PRODID:-//YourOrganization//EventDownload//DE
CALSCALE:GREGORIAN
METHOD:PUBLISH
BEGIN:VEVENT
UID:69e5d2d742a46@leapup.bitshifters.cloud
DTSTAMP:20260420T091639Z
DTSTART:20200804T100000Z
DTEND:20200806T113000Z
SUMMARY:Online-Seminar-Reihe: „Horizont 2020 – Antragstellung in den Lebenswissenschaften“
DESCRIPTION:\nDie Nationale Kontaktstelle Lebenswissenschaften (NKS-L) veranstaltet vom 04. bis 06. August 2020 die Web-Seminar-Reihe &bdquo\;Horizont 2020 &ndash\; F&ouml\;rderm&ouml\;glichkeiten und Antragstellung in den Lebenswissenschaften&ldquo\;.\nDer Web-Seminare geben detaillierte Informationen sowie Tipps zum Erstellen der Antragsteile Excellence\, Impact und Implementation in Horizont-2020-Antr&auml\;gen (RIA/IA/CSA).\n\nExcellence &ndash\; 04. August 2020\, 10:00 &ndash\; ca. 11:30 Uhr\nImpact &ndash\; 05. August 2020\, 10:00 &ndash\; ca. 11:30 Uhr\nImplementation &amp\; Members of the Consortium &ndash\; 06. August 2020\, 10:00 &ndash\; ca. 11:30 Uhr\n\nEine vorherige Anmeldung ist nicht notwendig\; die Teilnahme ist kostenlos. F&uuml\;r die Teilnahme am Web-Seminar ben&ouml\;tigen Sie lediglich einen Computer\, ein Tablet oder Smartphone mit Internetzugang sowie ein Headset oder einen Lautsprecher. Beachten Sie bitte\, dass bei der Verwendung eines Tablets oder Smartphones die Installation der Adobe Connect App erforderlich ist.\nBitte w&auml\;hlen Sie sich f&uuml\;nf Minuten vor Beginn des Web-Seminars unter der webconf-Website ein. Sie k&ouml\;nnen den Raum als Gast betreten. Bitte geben Sie beim Betreten Ihren Vor- und Nachnamen ein. Die vorherige &Uuml\;berpr&uuml\;fung der Verbindung und der Funktionsf&auml\;higkeit des verwendeten Tools webconf-Website ist ratsam.\nWeitere Informationen: https://www.nks-lebenswissenschaften.de/de/3143.php\nAnmeldung: https://webconf.vc.dfn.de/nks-lebenswissenschaften/\n
END:VEVENT
END:VCALENDAR
