BEGIN:VCALENDAR
VERSION:2.0
PRODID:-//YourOrganization//EventDownload//DE
CALSCALE:GREGORIAN
METHOD:PUBLISH
BEGIN:VEVENT
UID:69e717f587e9d@leapup.bitshifters.cloud
DTSTAMP:20260421T082349Z
DTSTART:20140320T000000Z
DTEND:20140321T000000Z
SUMMARY:PerMediCon
DESCRIPTION:Vom 20. bis 21. M&auml\;rz 2014 treffen sich auf der PerMediCon (Personalized Medicine Convention) in K&ouml\;ln zum vierten Mal f&uuml\;hrende K&ouml\;pfe aus Medizin\, Forschung\, Industrie\, Politik und Regulatorik\, um sich &uuml\;ber die Fortschritte und Herausforderungen der personalisierten Medizin sowie ihre praktischen Implikationen f&uuml\;r die Gesundheitsversorgung auszutauschen.
END:VEVENT
END:VCALENDAR
