BEGIN:VCALENDAR
VERSION:2.0
PRODID:-//YourOrganization//EventDownload//DE
CALSCALE:GREGORIAN
METHOD:PUBLISH
BEGIN:VEVENT
UID:69e5798330e1b@leapup.bitshifters.cloud
DTSTAMP:20260420T025531Z
DTSTART:20220628T090000Z
DTEND:20220628T140000Z
SUMMARY:Personaler-Workshop im Landkreis Meißen | No. 5
DESCRIPTION:Der Personaler-Workshop im Landkreis Mei&szlig\;en geht in die zweite Runde! Wir freuen uns sehr\, dass wir die 2019 von der Wirtschaftsf&ouml\;rderung Region Mei&szlig\;en initiierte Seminarreihe unter der Dachmarke "Verkn&uuml\;pfe dich" fortf&uuml\;hren.\n&Uuml\;ber die VeranstaltungAm 28./.29. Juni 2022 starten wir mit dem n&auml\;chsten spannenden Personaler-Workshop im Landkreis Mei&szlig\;en:\n"Alter(n)sgerechte Arbeitswelt. Wie kann die Arbeitsf&auml\;higkeit &uuml\;ber die gesamte Dauer der Erwerbsf&auml\;higkeit erhalten und gef&ouml\;rdert werden?"\nProf. Dr. J&uuml\;rgen Wegge von der Technischen Universit&auml\;t Dresden hat die Professur f&uuml\;r Arbeits- und Organisationspsychologie inne und verf&uuml\;gt &uuml\;ber jahrelange Erfahrung im Alter(n)sgerechten Arbeiten bzw. Generationenmanagement durch seine Lehr- und Forschungst&auml\;tigkeit. Gemeinsam mit seiner Doktorandin Anne Kempter wird er an zwei Workshop-Tagen Personalverantwortlichen im LK Mei&szlig\;en zukunftsgerichtete Instrumente f&uuml\;r die Personalarbeit im demografischen Wandel vorstellen.\nSie k&ouml\;nnen an dem Workshop wahlweise am 28.06. oder 29.06.2022 teilnehmen.Da das Teilnehmerkontingent f&uuml\;r den Personaler Workshop No. 5 wieder begrenzt ist\, bitten wir Sie um rechtzeitige Anmeldung unter www.verknuepfe-dich.de\nDas Programm und die Anmeldeoption finden Sie hier: https://www.verknuepfe-dich.de\n&nbsp\;\n
LOCATION:Dorint Parkhotel Meißen\, Hafenstraße 27-31\, 01662 Meißen
END:VEVENT
END:VCALENDAR
