BEGIN:VCALENDAR
VERSION:2.0
PRODID:-//YourOrganization//EventDownload//DE
CALSCALE:GREGORIAN
METHOD:PUBLISH
BEGIN:VEVENT
UID:69e4c4f3651ae@leapup.bitshifters.cloud
DTSTAMP:20260419T140507Z
DTSTART:20240313T100000Z
DTEND:20240313T163000Z
SUMMARY:Plasmamedizin: Technologie und Anwendungen
DESCRIPTION:Der Forschungsverbund Leibniz Gesundheitstechnologien organisiert gemeinsam mit dem Leibniz-Institut f&uuml\;r Plasmaforschung (INP) am 13. M&auml\;rz 2024 ein Symposium &bdquo\;Plasmamedizin: Technologie und Anwendung&ldquo\; in Berlin. Im Rahmen dieser Veranstaltung werden Forschende und Vertreter aus Industrieunternehmen M&ouml\;glichkeiten und Hindernisse der Anwendung der Kaltplasmatechnologie diskutieren und Erfahrungen aus dem Translationsprozess mit Klinikern und Entscheidungstr&auml\;gern austauschen.\nThemenschwerpunkte:\n\nMedizinische Anwendung von Plasma (CAP) - ein Update\nPlasmamedizinische Forschung: von der Idee zum Prototyp\nKlinische Evidenz der wundheilungsf&ouml\;rdernden Anwendung von Kaltplasma\nPlasma und Krebsbehandlung: M&ouml\;glichkeiten und Perspektiven\nPlasmaanwendung in der Zahnmedizin\nNormung und Standardisierung von medizinischen Plasmaquellen\nErprobungsstudie zur Kaltplasmabehandlung\nPodiumsdiskussion: Der Plasmamedizin-Markt aus Firmensicht\n\nMelden Sie sich hier an!
LOCATION:KARL STORZ Besucher- und Schulungszentrum\, Scharnhorststr.3\, 10115 Berlin
END:VEVENT
END:VCALENDAR
