BEGIN:VCALENDAR
VERSION:2.0
PRODID:-//YourOrganization//EventDownload//DE
CALSCALE:GREGORIAN
METHOD:PUBLISH
BEGIN:VEVENT
UID:69e4f9215c5a1@leapup.bitshifters.cloud
DTSTAMP:20260419T174745Z
DTSTART:20251022T084500Z
DTEND:20251022T130000Z
SUMMARY:PMS kompakt: Ihr Praxisleitfaden zur Überwachung nach der Markteinführung (Online)
DESCRIPTION:Die europäische Medizinprodukteverordnung (MDR) verpflichtet Medizintechnik-Hersteller zur Post-Market Surveillance (PMS). Das Ziel der PMS ist es\, potenzielle Risiken oder unerwünschte Ereignisse zu identifizieren\, die während der Verwendung eines Medizinproduktes auftreten und entsprechende Maßnahmen zum Schutz der Anwender zu treffen.\nDie entsprechenden Prozesse im Qualitätsmanagementsystem (QMS) spielen eine zentrale Rolle bei der Gewährleistung von Sicherheit und Leistungsfähigkeit über den gesamten Lebenszyklus von Medizinprodukten. PMS ist sowohl mit der Klinischen Nachbeobachtung (Post-Market Clinical Follow-Up\, PMCF) als auch mit dem Risikomanagement-Prozess des Herstellers eng verknüpft.\nBasierend auf der Erfahrung aus Ihrer Tätigkeit bei einem international tätigen Medizinprodukte-Hersteller erläutert Ihnen unsere Expertin Sophia Zoe Narten in diesem Seminar\, wie Sie die gesetzlichen Anforderungen an PMS in der Praxis umsetzen. Wir beleuchten die regulatorischen Grundlagen\, die Erstellung des PMS-Plan sowie der sich daraus ergebenden PMS Berichte (PMS Report und PSUR) und zeigen Ihnen\, wie Sie PMS effektiv in Ihr Qualitätsmanagementsystem integrieren.\nDieses Seminar richtet sich an Qualitätsmanager\, Produktmanager\, Vigilanzbeauftragte sowie Verantwortliche für Regulatory Affairs in der Medizintechnikbranche. Nutzen Sie diese Gelegenheit\, um praxisnahes Wissen zu gewinnen\, sich auszutauschen und Ihre Frage zu klären.\nWeitere Informationen
END:VEVENT
END:VCALENDAR
