BEGIN:VCALENDAR
VERSION:2.0
PRODID:-//YourOrganization//EventDownload//DE
CALSCALE:GREGORIAN
METHOD:PUBLISH
BEGIN:VEVENT
UID:69e550dfe3af0@leapup.bitshifters.cloud
DTSTAMP:20260420T000207Z
DTSTART:20230426T150000Z
DTEND:20230426T160000Z
SUMMARY:Predictive Maintenance & datenbasierte Qualitätsüberwachung
DESCRIPTION:Industrie 4.0 wird Realit&auml\;t: Finden Sie heraus\, wie Sie im Zeitalter vernetzter Sensorik und intelligenter Algorithmen den Zustand Ihrer Produktionsanlagen auf der Basis von Prozess- und Messdaten &uuml\;berwachen und daraus effizienzsteigernde Ans&auml\;tze ableiten. Erfahren Sie im Webinar\, wie Sie sich den Themen n&auml\;hern k&ouml\;nnen und lernen Sie konkrete Anwendungsbeispiele intelligenter Condition-Monitoring-Systeme kennen.\nMehr Informationen
LOCATION:Fraunhofer IIS/EAS\, Dresden
END:VEVENT
END:VCALENDAR
