BEGIN:VCALENDAR
VERSION:2.0
PRODID:-//YourOrganization//EventDownload//DE
CALSCALE:GREGORIAN
METHOD:PUBLISH
BEGIN:VEVENT
UID:69e5ef1561bfa@leapup.bitshifters.cloud
DTSTAMP:20260420T111709Z
DTSTART:20191015T090000Z
DTEND:20191015T170000Z
SUMMARY:Preparing for MDR/IVDR | Clinical data considerations
DESCRIPTION:« Medidee Services\, the leading medical and in-vitro diagnostics devices consultancy firm is delighted to invite you for a discussion around clinical data considerations. This event is a unique opportunity to meet and share clinical/performance evaluation knowledge and experience  with our experts in order to set-up or reinforce your clinical strategy under the MDR/IVDR. »\nMeet &amp\; share with experts about clinical/performance evaluation and get ready for your MDR/IVDR clinical strategy.\n \nAGENDA: \n09:30     Welcome and Opening\n10:00     Introduction talk Introduction on Karl Stortz Visitor Center\n              Silke Bendias | Director Visitor &amp\; Training Center Berlin\n10:15     Clinical data expectations from a notified body\n              Anthony Wilkinson | TÜV SÜD Clinical Manager\n11:00     Tips to write efficient CER and Performance evaluations\n              Dr. Sandra Klompmaker | Medidee Services\n11:45     Panel discussion\n              Chair: Raimo Sump | Medidee Services\n12:00     Lunch &amp\; Meet break – food included\n13:30     How to do efficient clinical data management / E-CRF\n              Yossi Tal\, PhD. | President\, TechnoSTAT\n14:15     Statistics for medical devices\n              Tim Farley\, PhD. | Medidee Services\n15:00     Coffee Break\n15:30     Lessons learned on MDR/IVDR processes\n              Michael Maier | Medidee Services\n16:00     Panel discussion\n              Chair: Raimo Sump | Medidee Services\n16:30     Networking\n \nEntry fee: EUR 250 (excl. VAT) biosaxony members and partners get a discount of 15% (please ask for the code at marketing@biosaxony.com)\nRegistration deadline: 10.10.2019\nRegistration details: training@medidee.com / +49 170 96 01 473\n \nLocation:\nKARL STORZ SE &amp\; Co. KG\nBesucher- und Schulugszentrum Berlin\nScharnhorstrasse 3\n10115 Berlin\n \n 
LOCATION:KARL STORZ SE & Co. KG  Besucher- und Schulugszentrum Berlin  \, Scharnhorststrasse 3  \, 10115  Berlin
END:VEVENT
END:VCALENDAR
