BEGIN:VCALENDAR
VERSION:2.0
PRODID:-//YourOrganization//EventDownload//DE
CALSCALE:GREGORIAN
METHOD:PUBLISH
BEGIN:VEVENT
UID:69e59e61dab27@leapup.bitshifters.cloud
DTSTAMP:20260420T053249Z
DTSTART:20220629T130000Z
DTEND:20220629T140000Z
SUMMARY:Produktionsüberwachung – Wie Sie die richtigen Daten gewinnen und effektiv nutzen
DESCRIPTION:Bei der Einf&uuml\;hrung von Industrie-4.0-Anwendungen spielen vernetzte oder in die Struktur der Produktionsanlagen integrierte Sensoren und Aktoren eine zentrale Rolle. Erfahren Sie im Webinar\, wie Sie mit den richtigen Sensordaten einen ganzheitlichen &Uuml\;berblick zu Maschinenzust&auml\;nden erhalten und so zur Optimierung Ihrer Wartungs- und Qualit&auml\;tsprozesse in der Produktion beitragen k&ouml\;nnen.
LOCATION:Fraunhofer IIS/EAS\, Münchner Straße\, 01187 Dresden
END:VEVENT
END:VCALENDAR
