BEGIN:VCALENDAR
VERSION:2.0
PRODID:-//YourOrganization//EventDownload//DE
CALSCALE:GREGORIAN
METHOD:PUBLISH
BEGIN:VEVENT
UID:69e56e777074b@leapup.bitshifters.cloud
DTSTAMP:20260420T020823Z
DTSTART:20221005T150000Z
DTEND:20221005T160000Z
SUMMARY:Produktionsüberwachung: Wie Sie die richtigen Daten gewinnen und effektiv nutzen 
DESCRIPTION:Bei der Einf&uuml\;hrung von Industrie-4.0-Anwendungen spielen vernetzte oder in die Struktur der Produktionsanlagen integrierte Sensoren und Aktoren eine zentrale Rolle. Erfahren Sie im Webinar\, wie Sie mit den richtigen Sensordaten einen ganzheitlichen &Uuml\;berblick zu&nbsp\; Maschinenzust&auml\;nden erhalten und so zur Optimierung Ihrer Wartungs- und Qualit&auml\;tsprozesse in der Produktion beitragen k&ouml\;nnen.
END:VEVENT
END:VCALENDAR
