BEGIN:VCALENDAR
VERSION:2.0
PRODID:-//YourOrganization//EventDownload//DE
CALSCALE:GREGORIAN
METHOD:PUBLISH
BEGIN:VEVENT
UID:69e62d1618c55@leapup.bitshifters.cloud
DTSTAMP:20260420T154142Z
DTSTART:20180530T150000Z
DTEND:20180530T180000Z
SUMMARY:Projektwerkstatt - Skandinavisch-sächsischer Workshop zur Kooperationsanbahnung im Bereich Gesundheitshandwerk\, Medizintechnik \, Gesundheitswirtschaft und angrenzende Bereiche.
DESCRIPTION:Projektwerkstatt - Skandinavisch-sächsischer Workshop zur Kooperationsanbahnung im Bereich Gesundheitshandwerk\, Medizintechnik \, Gesundheitswirtschaft und angrenzende Bereiche\nLernen Sie potentielle Partner\, Kunden und Unternehmen aus Norwegen in Dresden persönlich kennen!\nim Rahmen des Branchenbezogenen Absatzförderinstrumentes (BBA)\, welches durch das Sächsische Staatsministerium für Wirtschaft\, Arbeit und Verkehr (SMWA) gefördert\,  durch die Wirtschaftsförderung Sachsen GmbH (WFS) koordiniert und durch DREBERIS GmbH umgesetzt wird\, findet vom  30. Mai bis 01. Juni 2018  eine norwegisch Unternehmerreise im Bereich Gesundheitshandwerk\, Medizintechnik \, Gesundheitswirtschaft und angrenzende Bereiche in Sachsen statt.\n \nIn diesem Zusammenhang laden wir Sie herzlich zur Teilnahme an einer offenen Kooperationsbörse mit den skandinavischen Teilnehmer am 30. Mai 2018 in Dresden ein!\nZiel der Veranstaltung ist es\, die potenziellen Kooperationspartner aus Skandinavien kennen zu lernen und sich über Chancen für sächsische Unternehmen in Skandinavien zu informieren.\n \nDie Veranstaltung findet am 30.05.2018 von 15:00 - 18:00 Uhr im DFG-Forschungszentrum für Regenerative Therapien Dresden (CRTD)\, Fetscherstraße 105\, 01307 Dresden statt.\nWeitere Informationen über das BBA – Projekt: https://standort-sachsen.de/de/info-center/veranstaltungskalender/73324-projektwerkstatt-skandinavisch-saechsischer-workshop-zur-kooperationsanbahnung\n \nWir freuen uns auf Ihre Teilnahme und Ihre zeitnahe Rückmeldung\, da die Anzahl der Plätze begrenzt ist.\n Wenn Sie sich zur Veranstaltung anmelden möchten\, nutzen Sie bitte das Anmeldeformular auf unserer Homepage:\nhttp://www.dreberis.com/form/anmeldung-projektwerkstatt-skandinavisch-sachsischer-workshop-zur-kooperationsanbahnung\n Der Anmeldeschluss ist Donnerstag\, 24.05.2018.
LOCATION:DFG-Forschungszentrum für Regenerative Therapien Dresden (CRTD)\, Fetscherstraße 105\, 01307 Dresden
END:VEVENT
END:VCALENDAR
