BEGIN:VCALENDAR
VERSION:2.0
PRODID:-//YourOrganization//EventDownload//DE
CALSCALE:GREGORIAN
METHOD:PUBLISH
BEGIN:VEVENT
UID:69e6aec95be02@leapup.bitshifters.cloud
DTSTAMP:20260421T005505Z
DTSTART:20150314T100000Z
DTEND:20150314T150000Z
SUMMARY:Radebeul jobbt - 2015
DESCRIPTION:Die dritte Veranstaltung "Radebeul jobbt" im Jahr 2015 wird wieder eine gemeinsame Aktivit&auml\;t mit dem "Tag der offenen T&uuml\;r des BSZ" in Radebeul.\nDie Veranstaltung\, welche der direkten Kommunikation zwischen Sch&uuml\;lern mit ausbildenden Unternehmen und weiterf&uuml\;hrenden Bildungseinrichtungen dient\, wird\nam 14. M&auml\;rz 2015 in der Zeit von 10.00 Uhr und 15.00 Uhr\nim Beruflichen Schulzentrum Mei&szlig\;en Radebeul\, Stra&szlig\;e des Friedens 58 in 01445 Radebeul\nstattfinden.
END:VEVENT
END:VCALENDAR
