BEGIN:VCALENDAR
VERSION:2.0
PRODID:-//YourOrganization//EventDownload//DE
CALSCALE:GREGORIAN
METHOD:PUBLISH
BEGIN:VEVENT
UID:69e4c898e2716@leapup.bitshifters.cloud
DTSTAMP:20260419T142040Z
DTSTART:20250403T135500Z
DTEND:20250403T151500Z
SUMMARY:Reg Talk Medical Engineering: AI Act Update
DESCRIPTION:Reg Talk Medical Engineering&nbsp\;besch&auml\;ftigt sich mit den regulatorischen Rahmenbedingungen f&uuml\;r Medizinprodukte. Dieses Mal liegt der Fokus auf der&nbsp\;Verordnung (EU) 2024/1689 (Artificial Intelligence Act - AI Act).&nbsp\;\nDer&nbsp\;AI Act&nbsp\;ist am 01.08.2024 in Kraft getreten. Einige Abschnitte vom AI Act weichen vom grunds&auml\;tzlichen Geltungsbeginn am 02.08.2026 ab. So sind die Vorschriften f&uuml\;r Hochrisiko-KI-Systeme gem&auml\;&szlig\; Art. 6 (1) AI Act\, zu denen unter bestimmten Voraussetzungen auch Medizinprodukte geh&ouml\;ren\, ab dem 02.08.2027 anzuwenden. In der Zwischenzeit m&uuml\;ssen viele Einzelbestimmung des AI Acts umgesetzt werden. Hierzu geh&ouml\;rt die Errichtung neuer Institutionen wie dem AI Office und dem AI Board. Auf nationaler Ebene m&uuml\;ssen au&szlig\;erdem ein KI-Governance-System etabliert\, die Gesetzgebung in einzelnen Bereichen angepasst und die Anwendung des AI Acts sichergestellt werden. Hinzu kommen neue Normen und Leitf&auml\;den\, welche die Anwendung bestimmter Vorschriften des AI Acts erleichtern sollen. In diesem &bdquo\;Dschungel&ldquo\; von Ma&szlig\;nahmen und Neuerungen bieten wir Ihnen mit unserer Veranstaltung Orientierung.&nbsp\;\nKai Zenner vom Europ&auml\;ischen Parlament hat sich sehr intensiv mit dem AI Act besch&auml\;ftigt und wird in dieser Veranstaltung sowohl auf den&nbsp\;gegenw&auml\;rtigen Stand der Umsetzung des AI Acts&nbsp\;als auch die&nbsp\;Herausforderungen f&uuml\;r die beteiligten Stakeholder&nbsp\;eingehen. Auf seiner Webseite&nbsp\;stellt Kai Zenner au&szlig\;erdem zahlreiche Informationen zum AI Act zur Verf&uuml\;gung.&nbsp\;\nWir freuen uns auf Ihre Teilnahme!\nHier finden Sie weitere Informationen.
LOCATION:MS Teams\, Offenbach am Main
END:VEVENT
END:VCALENDAR
