BEGIN:VCALENDAR
VERSION:2.0
PRODID:-//YourOrganization//EventDownload//DE
CALSCALE:GREGORIAN
METHOD:PUBLISH
BEGIN:VEVENT
UID:69e4c56612c2a@leapup.bitshifters.cloud
DTSTAMP:20260419T140702Z
DTSTART:20251009T135500Z
DTEND:20251009T151500Z
SUMMARY:Reg Talk Medizintechnik: Compliance-by-Design von AI-basierten Medizinprodukten
DESCRIPTION:Der EU-Markt für Medizinprodukte ist durch sektorspezifische (z. B. die EU-Medizinprodukteverordnung) und sektorübergreifende (z. B. das EU-KI-Gesetz) Rechtsvorschriften stark reguliert. Infolgedessen müssen die Hersteller erhebliche personelle und zeitliche Ressourcen in die Einhaltung der Vorschriften investieren\, bevor sie ihre Produkte auf den EU-Markt bringen können. Dieses Problem lässt sich durch einen Compliance by Design"-Ansatz lösen\, bei dem die gesetzlichen Anforderungen von Anfang an in den Design- und Entwicklungsprozess von Medizinprodukten integriert werden. Zu den wichtigsten Vorteilen gehören neben der Kosteneffizienz eine kürzere Markteinführungszeit\, eine verbesserte Produktqualität und eine größere Flexibilität bei den Vorschriften. \nIn dieser Veranstaltung werden im ersten Vortrag die wichtigsten rechtlichen und regulatorischen Anforderungen an KI-basierte Medizinprodukte behandelt. Als Lösung werden neue Prozesse und die Anpassung bestehender Prozesse im QMS des Herstellers vorgestellt und schließlich wesentliche Schritte für ein erfolgreiches KI-Compliance-Projekt diskutiert. \nDer zweite Vortrag konzentriert sich auf die Perspektive der Benannten Stelle. Es werden sowohl häufige Fallstricke bei der CE-Konformitätsbewertung als auch Verfahren\, Herausforderungen und Fristen im Rahmen des AI-Gesetzes beleuchtet. \nWir freuen uns auf Ihre Teilnahme!\nRegistrieren Sie hier.
END:VEVENT
END:VCALENDAR
