BEGIN:VCALENDAR
VERSION:2.0
PRODID:-//YourOrganization//EventDownload//DE
CALSCALE:GREGORIAN
METHOD:PUBLISH
BEGIN:VEVENT
UID:69e4de364a443@leapup.bitshifters.cloud
DTSTAMP:20260419T155254Z
DTSTART:20250917T135500Z
DTEND:20250917T151500Z
SUMMARY:Reg Talk Medizintechnik: Daten für AI-basierte medizinische Geräte
DESCRIPTION:Besonders beim Einsatz von KI-basierten Systemen im Gesundheitswesen ist es wichtig\, dass diese medizinischen Geräte sicher und effektiv sind. Die Qualität von KI-basierten Systemen hängt weitgehend von den Daten ab\, die zum Trainieren des KI-Modells und für den späteren Betrieb verwendet werden. Zu den bekannten Herausforderungen in Bezug auf die Entwicklung von KI-Modellen gehören Daten:  \n\nAusreichende Größe des Datensatzes\, \nKonsistenz zwischen und innerhalb von Datensätzen\, \nVollständigkeit\, \nRepräsentativität\, und \nFreiheit von Verzerrungen. \n\nFür Hersteller stellt sich die Frage\, wie sie das Datenmanagement sowohl in der Entwicklungs- als auch in der Marktphase des KI-basierten Medizinprodukts effizient und rechtskonform umsetzen können. Darüber hinaus sollten die Hersteller die tatsächlichen Gegebenheiten bei den Anwendern im klinischen Umfeld genau unter die Lupe nehmen. \nDiese Veranstaltung gibt Ihnen einen Überblick über die Anforderungen an Daten in KI-basierten Medizinprodukten\, sowie Einblicke in die technische Umsetzung des Datenmanagements und die Anwendung und Herausforderungen in der klinischen Praxis. \nWir freuen uns auf Ihre Teilnahme! 
END:VEVENT
END:VCALENDAR
