BEGIN:VCALENDAR
VERSION:2.0
PRODID:-//YourOrganization//EventDownload//DE
CALSCALE:GREGORIAN
METHOD:PUBLISH
BEGIN:VEVENT
UID:69e5ef3da5b46@leapup.bitshifters.cloud
DTSTAMP:20260420T111749Z
DTSTART:20191121T090000Z
DTEND:20191122T160000Z
SUMMARY:S22 - Optimierung des Spritzgießprozesses
DESCRIPTION:Wie kommen Sie effizient zum Ziel?  Wir vermitteln Ihnen Strategien zur Optimierung des Spritzgießprozesses unter Beachtung von definierten Randbedingungen\, die im sich anschließenden Workshop angewendet werden.InhaltOptimierungspotentiale in der SpritzgießfertigungPraxisteil:- Formteil- und Prozessanalyse- Abgrenzung des verfahrenstechnischen PotenzialsStrategien und Mittel zur ProzessoptimierungWorkshop:- Zykluszeit- und Energieoptimierung- QualitätsoptimierungTeilnehmerFertigungsleiter\, Meister\, Schichtführer und Einrichter von Spritzgießmaschinen
LOCATION:Kunststoff-Zentrum in Leipzig gGmbH\, Erich-Zeigner-Allee 44\, 04229 Leipzig
END:VEVENT
END:VCALENDAR
