BEGIN:VCALENDAR
VERSION:2.0
PRODID:-//YourOrganization//EventDownload//DE
CALSCALE:GREGORIAN
METHOD:PUBLISH
BEGIN:VEVENT
UID:69e4c574de3d3@leapup.bitshifters.cloud
DTSTAMP:20260419T140716Z
DTSTART:20250213T100000Z
DTEND:20250213T150000Z
SUMMARY:Sächsische Innovationsbörse I - Gesundheit und Ernährungswirtschaft
DESCRIPTION:Die Innovationsb&ouml\;rse gibt einen &Uuml\;berblick zu Produkt- und Technologieneuheiten und unterst&uuml\;tzt Nachfragende und Anbietende innovativer L&ouml\;sungen aus Wissenschaft und Wirtschaft bei der Kooperationsanbahnung. Der direkte Austausch zwischen Wissenschaft und Wirtschaft setzt neue Impulse und erm&ouml\;glicht die strukturierte und schnelle Umsetzung von Innovationen.&nbsp\;Skalieren Sie gemeinsam #InnovationmadeinSaxony zu Markterfolgen.​ Im Fokus des Programms stehen folgende Themen:\n\nDigitalisierung im Gesundheitswesen\nInnovationen in der Ern&auml\;hrungswirtschaft\nKreislaufwirtschaftsans&auml\;tze f&uuml\;r beide Sektoren\n\nWeitere Informationen sowie die Ticketanfrage zur Veranstaltung finden Sie hier.
LOCATION:Staatliche Studienakademie Plauen\, Schoßberg 1\, 08523 Plauen
END:VEVENT
END:VCALENDAR
