BEGIN:VCALENDAR
VERSION:2.0
PRODID:-//YourOrganization//EventDownload//DE
CALSCALE:GREGORIAN
METHOD:PUBLISH
BEGIN:VEVENT
UID:69e4fd6f712e8@leapup.bitshifters.cloud
DTSTAMP:20260419T180607Z
DTSTART:20250625T100000Z
DTEND:20250625T200000Z
SUMMARY:Sächsische Innovationskonferenz 2025
DESCRIPTION:Die S&auml\;chsische Innovationskonferenz bietet eine Plattform\, um innovative Ideen\, Transferprojekte und unternehmerischen Fortschritt in Sachsen zu pr&auml\;sentieren. Zu den Highlights geh&ouml\;ren spannende Keynotes\, inspirierende Talks\, der futureSAX-Showcase sowie Community-Treffs zum Austausch in der Innovations-Community. Zudem werden herausragende Gr&uuml\;ndungsideen\, Transferprojekte und Unternehmen f&uuml\;r ihre Leistungen ausgezeichnet und gew&uuml\;rdigt.\nMehrere Informationen finden Sie hier!
LOCATION:Messe Dresden \, Messering 6 \, 01067 Dresden
END:VEVENT
END:VCALENDAR
