BEGIN:VCALENDAR
VERSION:2.0
PRODID:-//YourOrganization//EventDownload//DE
CALSCALE:GREGORIAN
METHOD:PUBLISH
BEGIN:VEVENT
UID:69e4e24f9b2ef@leapup.bitshifters.cloud
DTSTAMP:20260419T161023Z
DTSTART:20260602T000000Z
DTEND:20260603T000000Z
SUMMARY:SaxoCell-Konferenz über Zell- und Gentherapie
DESCRIPTION:SPEICHERN SIE SICH DEN TERMIN\nSaxoCell\, der sächsische Zell- und Gentherapie-Cluster\, lädt Menschen aus Wissenschaft\, Industrie\, Politik und weiteren Interessengruppen zu einer Konferenz mit dem Schwerpunkt "Wie man neue\, sichere und bezahlbare Zell- und Gentherapien vom Labortisch in die Kliniken bringt" ein. In Vorträgen und Podiumsdiskussionen werden die neuesten Technologien und wissenschaftlichen Erkenntnisse im Bereich der Zell- und Gentherapien vorgestellt und der Frage nachgegangen\, wie das viel beschriebene "Tal des Todes" bei der Entwicklung komplexer ATMPs überwunden werden kann. In Pitch-Sessions stellen Gründerteams ihre innovativen Technologien vor und erzählen\, was sie brauchen\, um erfolgreich zu sein. Abgerundet wird das Programm durch einen Eröffnungsempfang mit einem besonderen Gast und weiteren Networking-Möglichkeiten bei Speisen und Getränken.\nWeitere Informationen folgen in Kürze!
END:VEVENT
END:VCALENDAR
