BEGIN:VCALENDAR
VERSION:2.0
PRODID:-//YourOrganization//EventDownload//DE
CALSCALE:GREGORIAN
METHOD:PUBLISH
BEGIN:VEVENT
UID:69e973c3e5780@leapup.bitshifters.cloud
DTSTAMP:20260423T032003Z
DTSTART:20140319T000000Z
DTEND:20140319T000000Z
SUMMARY:Saxon Biotechnology Symposium 2014
DESCRIPTION:
END:VEVENT
END:VCALENDAR
