BEGIN:VCALENDAR
VERSION:2.0
PRODID:-//YourOrganization//EventDownload//DE
CALSCALE:GREGORIAN
METHOD:PUBLISH
BEGIN:VEVENT
UID:69e8cd3cb2ac0@leapup.bitshifters.cloud
DTSTAMP:20260422T152932Z
DTSTART:20251125T090000Z
DTEND:20251125T163000Z
SUMMARY:Schlagfertigkeit für Frauen
DESCRIPTION:Zum Thema:Ob im Beruf oder Alltag - spontan\, gelassen und souverän auf verbale Angriffe zu reagieren fällt vielen schwer. Gerade Frauen fühlen sich dabei oft unsicher. Und meistens fallen einem die besten Antworten und Sprüche erst hinterher ein. Doch Schlagfertigkeit lässt sich trainieren! In unserem neuen Seminar lernen und üben Sie entsprechende Techniken und erlangen so mehr Souveränität und Sicherheit in Ihrem (beruflichen) Alltag. So gelingt es Ihnen\, in jeder Situation richtig zu kontern und schlagfertig zu antworten. \nNutzen:\n\nSie lernen\, wie Sie ab sofort sicherer mit Störungen und Provokationen in Ihrem Alltag umgehen und souverän reagieren können.\nSie erfahren ganz praktisch\, welche rhetorischen Techniken Ihnen bei verbalen Ausei­nandersetzungen helfen können\, Konflikte zu vermeiden.\nSie reflektieren und überprüfen typische Handlungsmuster und nehmen dadurch indivi­duelle Ansätze für Veränderungen mit.\nSie haben nach dem Seminar eine konkrete Vorstellung von konstruktiver und intelligen­ter Schlagfertigkeit\, die Ihren individuellen Handlungsspielraum in der Praxis erweitert.\nSie nehmen einen "Werkzeugkoffer" mit\, mit dessen Hilfe Sie Ihre Stärken künftig kreati­ver und selbstbewusster einsetzen können.\nSie werden in Ihrer Rolle gestärkt und dabei unterstützt\, künftig ganz selbstverständlich eine professionelle Präsenz zu zeigen.\n\nInhalt:\n\nAbgrenzung von Schlagfertigkeit zu Konflikten anhand von Beispielen.\nAnalysieren von Beispielsituationen\, in denen Schlagfertigkeit gefragt ist\nUnterschied zwischen weiblichen und männlichen Sprachmustern\nAufzeigen kontraproduktiver Gesprächsmuster als Grundlage der Konfliktvermeidung\nKennenlernen erprobter Techniken und Methoden sowie rhetorischer Mittel\, die zu mehr Handlungssicherheit in angespannten Situationen führen\, ohne dass auf sachlicher oder persönlicher \nEbene Konflikte entstehen\nErarbeiten überzeugender und wirkungsvoller Argumente für den beruflichen Alltag\, um sicher auf verbale Angriffe reagieren und diese besser einordnen zu können\nDie Notwendigkeit des "NEIN-Sagens" und des Selbstschutzes\nZahlreiche praktische Übungen\, auch anhand konkreter Beispiele der Teilnehmerinnen\n\nMethodik: Trainerinput\, Werte- und Identitätsanalyse\, Einzel- und Gruppenarbeit\, Interaktive Seminargestaltung\, Fallbeispiele\, praktische Übungen\, Feedback\nIhre Dozentin: Frau Burgund Freese\nTeilnehmergebühr:\n\nbiosaxony e.V. Mitglieder: 300 EUR (netto)\nNichtmitglieder: 350 EUR (netto)\n\nTeilnahmebedingungen:\nEine Stornierung der Anmeldung bleibt bis zum jeweiligen Anmeldeschluss kostenfrei. Bei einer Stornierung nach dem Anmeldeschluss werden 50% des Kurspreises fällig. Bei unentschuldigtem Nichterscheinen ist der komplette Kurspreis fällig.\n--- Der Workshop wird in deutscher Sprache angeboten. ---
LOCATION:BIO CITY Leipzig\, Deutscher Platz 5c\, 04103 Leipzig
END:VEVENT
END:VCALENDAR
