BEGIN:VCALENDAR
VERSION:2.0
PRODID:-//YourOrganization//EventDownload//DE
CALSCALE:GREGORIAN
METHOD:PUBLISH
BEGIN:VEVENT
UID:69e53de445534@leapup.bitshifters.cloud
DTSTAMP:20260419T224108Z
DTSTART:20231026T100000Z
DTEND:20231026T170000Z
SUMMARY:ScieCon Bochum
DESCRIPTION:Auf der ScieCon kommst du mit den Unternehmensvertretenden ins Gespr&auml\;ch und kannst wertvolle Kontakte f&uuml\;r deinen Karriereeinstieg kn&uuml\;pfen. Das vielf&auml\;ltige Rahmenprogramm bietet dir zus&auml\;tzlich die M&ouml\;glichkeit\, deinen Berufseinstieg&nbsp\;optimal vorzubereiten. Dich erwarten interessante&nbsp\;Firmenvortr&auml\;ge\, ein&nbsp\;CV-Check\, die M&ouml\;glichkeit\, ein professionelles&nbsp\;Bewerbungsfoto&nbsp\;aufnehmen zu lassen\, und&nbsp\;vieles mehr!&nbsp\;\nDer Eintritt ist wie immer kostenfrei!\nHier anmelden!
LOCATION:RuhrCongress Bochum\, Stadionring 20\, 44791 Bochum
END:VEVENT
END:VCALENDAR
