BEGIN:VCALENDAR
VERSION:2.0
PRODID:-//YourOrganization//EventDownload//DE
CALSCALE:GREGORIAN
METHOD:PUBLISH
BEGIN:VEVENT
UID:69e5c61776014@leapup.bitshifters.cloud
DTSTAMP:20260420T082215Z
DTSTART:20201111T090000Z
DTEND:20201112T170000Z
SUMMARY:ScieCon München 2020 
DESCRIPTION:Alle Karriereveranstaltungen sind abgesagt\, aber Ihr seid auf Jobsuche? Ihr seid kurz vor dem Ende Eures Bachelors\, Masters oder der Promotion\, wisst aber einfach nicht\, wie es weitergehen soll? Wisst nicht\, wo Ihr gerne und mit Begeisterung arbeiten wollt? Kein Problem!&nbsp\;Die btS e.V. bringt die Unternehmen der Life Science Branche zu Euch nach Hause. Au&szlig\;erdem erwartet Euch ein vielf&auml\;ltiges Programm\, mit dem Ihr Eurem Berufseinstieg ein St&uuml\;ckchen n&auml\;her kommt. Das alles gibt es nat&uuml\;rlich kostenlos und digital.\nAm 11. und 12. November findet die zweite Auflage der digitalen ScieCon statt\, mit allen wichtigen Messe-Programmpunkten.&nbsp\;Der erste Tag ist der&nbsp\;Soft-Skill Entwicklung und Messevorbereitung gewidmet mit spannenden Webinaren\, einem kostenlosen CV-Check und weiteren interessanten Weiterbildungsm&ouml\;glichkeiten. Am folgenden Messetag erwarten Euch pers&ouml\;nliche Gespr&auml\;che mit den Firmenvertretern per Live-Chat\, interessante Fachvortr&auml\;ge\, ein Live-Bewerbungsgespr&auml\;ch und vieles mehr! Hier k&ouml\;nnt Ihr Euch f&uuml\;r die ScieCon anmelden.\nAuf dieser und den nachfolgenden Seiten werden regelm&auml\;&szlig\;ig Neuigkeiten zur digitalen ScieCon ver&ouml\;ffentlich. Es lohnt sich also\, immer mal wieder vorbei zu schauen.
END:VEVENT
END:VCALENDAR
