BEGIN:VCALENDAR
VERSION:2.0
PRODID:-//YourOrganization//EventDownload//DE
CALSCALE:GREGORIAN
METHOD:PUBLISH
BEGIN:VEVENT
UID:69e672ba7ff4c@leapup.bitshifters.cloud
DTSTAMP:20260420T203850Z
DTSTART:20160512T110000Z
DTEND:20160512T110000Z
SUMMARY:Seminar: Deep-tissue imaging with time-reversed light
DESCRIPTION:Recent advances in resolution\, speed\, labelling and the advent of optogenetics have greatly extended the use of optical techniques and enabled many biomedical breakthroughs. Yet\, when light propagates through thick biological tissues\, refractive index inhomogeneities cause diffuse scattering that increases with depth. This poses a major challenge to optical techniques\, limiting their biomedical usefulness in vivo to superficial layers of tissue (in rodents) or to larval stages (in zebrafish). In this talk I will describe several strategies to address this key challenge using techniques based on wavefront engineering and optical time reversal\, in order to enable optical imaging at unprecedented depths in biological tissues.
LOCATION:BAR 213 (Barkhausenbau)\, Helmholtzstraße\, 01069 Dresden
END:VEVENT
END:VCALENDAR
