BEGIN:VCALENDAR
VERSION:2.0
PRODID:-//YourOrganization//EventDownload//DE
CALSCALE:GREGORIAN
METHOD:PUBLISH
BEGIN:VEVENT
UID:69e6623b0d91b@leapup.bitshifters.cloud
DTSTAMP:20260420T192827Z
DTSTART:20170329T090000Z
DTEND:20170329T160000Z
SUMMARY:Seminar: Logistics Solutions for Direct-to-Patient Clinical Trials
DESCRIPTION:Logistics Solutions for Direct-to-Patient Clinical TrialsA joint seminar by World Courier\, MRN and PAREXEL\nDirect-to-Patient Ansätze nehmen einen immer wichtigeren Teil im Rahmen klinischer Studien ein. DtP-Modelle bieten auf der einen Seite viele neue Möglichkeiten\, wie z. B. in Bezug auf Patientenrekrutierung - auf der anderen Seite aber auch neue Herausforderungen hinsichtlich Vertraulichkeitsthemen oder vielfältiger länderspezifischer regulatorischer Rahmenbedingungen.\nDie Zielsetzungen unseres Seminars sind von daher u. a.:\n\nSchaffen einer Übersicht über die verschiedenen DtP-Modelle.\nTransparenz bzgl. spezifischer regulatorischer Rahmenbedingungen schaffen.\nEntwicklung eines tiefergehenden Verständnisses aller Beteiligten für die vielfältigen Herausforderungen und Chancen mit der Zielsetzung einer besseren und effizienteren Zusammenarbeit.\nIdentifizierung und Minimierung von Risiken durch abgestimmte Zusammenarbeit aller Beteiligten\, rechtzeitige Planung und Definition klarer Verantwortlichkeiten.\nGenerierung von Insiderwissen – welche spezifischen Herausforderungen können im Zusammenhang mit DtP-Thematiken auftreten und wie können diese beherrscht und gemanagt werden?\nVorstellung praktischer Ansätze für die sich schnell entwickelnden regulatorischen Rahmenbedingungen.\netc.\n\n&gt\;&gt\;Zu Agenda &amp\; Anmeldung
LOCATION:World Courier (Deutschland) GmbH\, Lise-Meitner-Str. 8\, 65428 Rüsselsheim a. M.
END:VEVENT
END:VCALENDAR
