BEGIN:VCALENDAR
VERSION:2.0
PRODID:-//YourOrganization//EventDownload//DE
CALSCALE:GREGORIAN
METHOD:PUBLISH
BEGIN:VEVENT
UID:69e777e9b57ff@leapup.bitshifters.cloud
DTSTAMP:20260421T151313Z
DTSTART:20180606T090000Z
DTEND:20180606T170000Z
SUMMARY:Seminar Projektmanagement Medizintechnik
DESCRIPTION:Projektarbeit spielt in Medizintechnikunternehmen eine große Rolle. Das ist nicht nur in der Entwicklung der Fall\, sondern bei allen Projekten\, um sich am Markt besser zu positionieren\, bessere Produkte anzubieten\, Strukturen zu verbessern und erfolgreicher zu agieren.\nHäufig werden diese Projekte im Marketing/Produktmanagement geführt. Grund dafür ist die zentrale Position des Marketings/Produktmanagement als Schnittstelle im Unternehmen und zum Markt. Die besondere Herausforderung für die Projektleitung\, aber auch die Projektmitarbeiter besteht darin\, diese Projekte erfolgreich parallel zum Tagesgeschäft voranzutreiben und abzuschließen.\nEine Besonderheit besteht darin\, dass die Projektmitglieder meist aus verschiedenen Abteilungen kommen\, die Projektarbeit zusätzlich erfolgt und der Projektleiter oft keinen administrativen Zugriff auf die Projektmitglieder hat.\nDas Seminar bietet umsetzbares Wissen zum Projektmanagement und zur Projektmitarbeit für Projekte in kleinen Teams\, die häufig parallel zu anderen Aufgaben des „Tagesgeschäfts“ laufen.\nTeilnahmegebühr: 590 € (zzgl. MwSt.)\nbiosaxony-Mitglieder erhalten einen Rabatt von 15 %. Dazu melden Sie sich bitte direkt unter der E-mail andre.henke@hcmc-akademie.de.
LOCATION:HCMC Akademie\, Leipzig
END:VEVENT
END:VCALENDAR
