BEGIN:VCALENDAR
VERSION:2.0
PRODID:-//YourOrganization//EventDownload//DE
CALSCALE:GREGORIAN
METHOD:PUBLISH
BEGIN:VEVENT
UID:69e517b5ef69a@leapup.bitshifters.cloud
DTSTAMP:20260419T195813Z
DTSTART:20241008T090000Z
DTEND:20241010T163000Z
SUMMARY:Seminar zur Auswertung von Ringversuchen mit PROLab
DESCRIPTION:Seminar zur Auswertung von Ringversuchen mit PROLab08. - 10. Oktober 2024Zeit &amp\; Ort:&nbsp\;&nbsp\;08. - 10. Oktober 2024\, 9 &ndash\; 16:30 Uhr in Dresden\nReferenten:&nbsp\;Dipl.-Math. Bertrand Colson\,&nbsp\;Omri Teufert\nPreis:&nbsp\;1800\,- &euro\; netto\n&Uuml\;berblick:\nTag 1: Einf&uuml\;hrung in die Planung und Auswertung von RingversuchenTag 2: Homogenit&auml\;t\, Stabilit&auml\;t\, Probencharakterisierung\, Cross-Sample-AuswertungTag 3: Messunsicherheit\, MU-Hampel und methodenspezifische AuswertungZielgruppe:\nOrganisatoren von Ringversuchen und EQA in allen BranchenOrganisatoren von labor&uuml\;bergreifenden MethodenvalidierungsstudienBenutzer von PROLabProfitieren Sie vom Austausch mit den anderen Teilnehmern und den Experten der QuoData.\nDie Teilnahmegeb&uuml\;hr betr&auml\;gt 1800\,- &euro\; netto\, inkl. MittagsverpflegungPr&auml\;sentationsfolien\, PROLab Plus Demo-Version&nbsp\;und Teilnahmezertifikat sind im Preis inbegriffenf&uuml\;r die Buchung einer Unterkunft haben wir Empfehlungen f&uuml\;r Sie - sprechen Sie uns bitte an\n\nWeitere Informationen\n
LOCATION:QuoData GmbH\, 01309 Dresden
END:VEVENT
END:VCALENDAR
