BEGIN:VCALENDAR
VERSION:2.0
PRODID:-//YourOrganization//EventDownload//DE
CALSCALE:GREGORIAN
METHOD:PUBLISH
BEGIN:VEVENT
UID:69e8b986942e1@leapup.bitshifters.cloud
DTSTAMP:20260422T140526Z
DTSTART:20200610T100000Z
DTEND:20200610T110000Z
SUMMARY:Shaping the Future of Medical Technologie: Welches Innovationspotential die Mikrobearbeitung hat
DESCRIPTION:Klein\, kleiner\, am kleinsten: Mikrobearbeitung und Mikrosystemtechnik bieten f&uuml\;r die Fertigung und Produktion von Medizintechnik gro&szlig\;es Innovationspotenzial. Erfahren Sie aus erster Hand von den M&ouml\;glichkeiten\, die sich f&uuml\;r Sie ergeben k&ouml\;nnen.\nModeration: Niklas Kuczaty\, VDMA\nkostenfreie Anmeldung
END:VEVENT
END:VCALENDAR
