BEGIN:VCALENDAR
VERSION:2.0
PRODID:-//YourOrganization//EventDownload//DE
CALSCALE:GREGORIAN
METHOD:PUBLISH
BEGIN:VEVENT
UID:69e5dc46318c4@leapup.bitshifters.cloud
DTSTAMP:20260420T095654Z
DTSTART:20200624T100000Z
DTEND:20200624T110000Z
SUMMARY:Shaping the Future of Medical Technologie: Wie additive Fertigung neue Möglichkeiten bietet #1
DESCRIPTION:\n\n\n\nFlexibel\, individualisierbar\, effizient: Bei der additiven Fertigung sind gerade im Design von Bauteilen f&uuml\;r Medizinprodukte kaum Grenzen gesetzt. Wo und wie die additive Fertigung f&uuml\;r Ihre Fertigung im Bereich Prototypen\, Klein- und Gro&szlig\;serien Mehrwerte schaffen kann\, erfahren Sie im Online-Seminar.\n&nbsp\;\nModeration: Niklas Kuczaty\, VDMA\n\n\n&nbsp\;\nkostenfreie Anmeldung\n\n\n\n\n\n\n\n\n&nbsp\;\n\n
END:VEVENT
END:VCALENDAR
