BEGIN:VCALENDAR
VERSION:2.0
PRODID:-//YourOrganization//EventDownload//DE
CALSCALE:GREGORIAN
METHOD:PUBLISH
BEGIN:VEVENT
UID:69e5d80849d41@leapup.bitshifters.cloud
DTSTAMP:20260420T093848Z
DTSTART:20200701T100000Z
DTEND:20200701T110000Z
SUMMARY:Shaping the Future of Medical Technologie: Wie Qualität & UDI-Konformität sichergestellt werden können
DESCRIPTION:Unterst&uuml\;tzend\, wirksam\, sicher: Die Herausforderung im Qualit&auml\;tsmanagement von Medizinprodukte liegt neben der Durchg&auml\;ngigkeit in der gesamten Wertsch&ouml\;pfungskette auch in der Einhaltung einer Vielzahl von rechtlichen Vorschriften wie beispielswise der UDI-Konformit&auml\;t. Erfahren Sie im Online-Seminar\, wie innovative Unterst&uuml\;tzung aussehen kann.\n\nModeration: Niklas Kuczaty\, VDMA\n&nbsp\;\nkostenfreie Anmeldung\n
END:VEVENT
END:VCALENDAR
