BEGIN:VCALENDAR
VERSION:2.0
PRODID:-//YourOrganization//EventDownload//DE
CALSCALE:GREGORIAN
METHOD:PUBLISH
BEGIN:VEVENT
UID:69e4c8a923af5@leapup.bitshifters.cloud
DTSTAMP:20260419T142057Z
DTSTART:20240924T123000Z
DTEND:20240925T190000Z
SUMMARY:Shaping the future of medicine
DESCRIPTION:Liebe Teilnehmerinnen und Teilnehmer\, Zukunftsdenker und Wegbereitervon &bdquo\;Shaping the Future of Medicine&ldquo\;\,\nin einer Zeit\, in der sich medizinische Wissenschaft und Technologie stetig weiterentwickeln\, nehmen die digitale Medizin und die Integration von K&uuml\;nstlicher Intelligenz (KI) in die Krebsmedizin eine zentrale Rolle bei der Gestaltung zukunftsweisender Diagnose- und Behandlungsmethoden ein. Wir laden Sie herzlich ein\, mit uns am 24. und 25. September 2024 die neuesten Entwicklungen und Durchbr&uuml\;che in diesen innovativen Bereichen mit uns in Leipzig zu erkunden.\nMehr Informationen finden Sie hier!
LOCATION:Pittlerwerke\, Polyphonstraße\, 04159 Leipzig
END:VEVENT
END:VCALENDAR
