BEGIN:VCALENDAR
VERSION:2.0
PRODID:-//YourOrganization//EventDownload//DE
CALSCALE:GREGORIAN
METHOD:PUBLISH
BEGIN:VEVENT
UID:69e8c6b120386@leapup.bitshifters.cloud
DTSTAMP:20260422T150137Z
DTSTART:20180926T090000Z
DTEND:20180927T173000Z
SUMMARY:Sicherheit in der Gentechnik - Biologische Sicherheit
DESCRIPTION:Das Programm der zweitägigen Fortbildung erstreckt sich von rechtlichen Bestimmungen über Bau- und Sicherheitsmaßnahmen bis hin zu Arbeitsschutzregelungen und den Grundsätzen der guten mikrobiologischen Technik.\nDie Fortbildungsveranstaltung ist durch das Sächsische Staatsministerium für Umwelt und Landwirtschaft nach § 15 Abs. 2 Satz 1 Nr. 3 GenTSV zertifiziert. Bei Teilnahme an beiden Kurstagen wird eine Teilnahmebescheinigung ausgestellt\, die in allen Bundesländern gültig ist.\nVoraussetzung zur Teilnahme an der Veranstaltung ist ein abgeschlossenes Studium in Biologie\, Chemie\, Medizin oder Tiermedizin. Absolventen und Absolventinnen eines Ingenieur-Studiengangs\, die als Projektleiter und Projektleiterinnen gentechnischer Arbeiten und Beauftragte für die Biologische Sicherheit (BBS) nach § 15 GenTSV bestellt werden sollen\, sind ebenfalls zur Teilnahme berechtigt.\nEingehende Kenntnisse in der allgemeinen Mikrobiologie\, in klassischer und molekularer Genetik sowie praktische Erfahrung im Umgang mit Mikroorganismen werden für eine spätere Bestellung als Projektleiter / Projektleiterin und Beauftragter / Beauftragte für die biologische Sicherheit vorausgesetzt. Die Teilnahmegebühr beträgt 290 Euro.\nDer Preis beinhaltet die Teilnahmegebühr\, Schulungs- unterlagen und Verpflegung während der Kaffeepausen. Promovierende der Universität Leipzig können beim Graduiertenzentrum Lebenswissenschaften eine (Teil-)Übernahme der Kursgebühr beantragen.\nAnmeldung online unter:http://ogy.de/gentechnik2018
LOCATION:Universität Leipzig\, Institut für Biologie - Kleiner Hörsaal\, EG\, Talstr. 33\, 04103 Leipzig
END:VEVENT
END:VCALENDAR
