BEGIN:VCALENDAR
VERSION:2.0
PRODID:-//YourOrganization//EventDownload//DE
CALSCALE:GREGORIAN
METHOD:PUBLISH
BEGIN:VEVENT
UID:69e6882a6644f@leapup.bitshifters.cloud
DTSTAMP:20260420T221018Z
DTSTART:20160121T080000Z
DTEND:20160121T100000Z
SUMMARY:Silicon Saxony e.V.-Arbeitskreistreffen Patente\, Recht\, Steuern: "Vertragsrecht aus Sicht des Einkaufs"
DESCRIPTION:Die n&auml\;chste Veranstaltung des Arbeitskreises &bdquo\;Patente Recht Steuern&ldquo\; am 21. Januar 2016 befasst sich mit der Thematik:&bdquo\;Vertragsrecht aus Sicht des Einkaufs&ldquo\;.\nDie Veranstaltung ist konzipiert als Wissensauffrischung f&uuml\;r Eink&auml\;ufer im Tagesgesch&auml\;ft und gibt einen &Uuml\;berblick &uuml\;ber relevante Regelungsmaterien in Liefervertr&auml\;gen aus Einkaufssicht vom Vertragsschluss &uuml\;ber Gew&auml\;hrleistungsrechte bis zur Produkthaftung. Beleuchtet werden auch zu beachtende Besonderheiten in Rahmen von AGB sowie aktueller Rechtsprechung hierzu.\nReferentin der Veranstaltung ist Frau Rechtsanw&auml\;ltin Antje Thies von der Kanzlei BIZ|LAW Rechtsanw&auml\;lte in Dresden.Im Anschluss besteht wie immer die Gelegenheit f&uuml\;r Fragen und den gegenseitigen Erfahrungsaustausch.\nWir laden Sie herzlich f&uuml\;r Donnerstag\, den 21. Januar 2016 um 8:00 Uhr in Raum 401\, Haus D\, TechnologieZentrumDresden Nord ein.\nBitte best&auml\;tigen Sie uns Ihre Teilnahme bis zum Dienstag\, den 19. Januar 2016. \nAls Ansprechpartner f&uuml\;r inhaltlich-fachliche Fragen steht Ihnen Herr Rechtsanwalt Hendrik Kamp\, Tel: +49 351 30707030\, E-Mail: mail@biz-law.eu gern zur Verf&uuml\;gung.\n
LOCATION:TechnologieZentrumDresden Nord\, Manfred-von-Ardenne-Ring\, 01099 Dresden
END:VEVENT
END:VCALENDAR
