BEGIN:VCALENDAR
VERSION:2.0
PRODID:-//YourOrganization//EventDownload//DE
CALSCALE:GREGORIAN
METHOD:PUBLISH
BEGIN:VEVENT
UID:69e69e4a51f98@leapup.bitshifters.cloud
DTSTAMP:20260420T234442Z
DTSTART:20150826T160000Z
DTEND:20150826T190000Z
SUMMARY:Silicon Saxony e.V.-Arbeitskreistreffen Personalentwicklung "Grundlagen agiler und lernender Organisationen"
DESCRIPTION:Arbeitskreistreffen Personalentwicklung\n"Unter den Themen: "Grundlagen agiler und lernender Organisationen" findet am 26. August 2015 der n&auml\;chste Arbeitskreis Personalentwicklung statt.\nViele sind heutzutage der Ansicht\, dass nur der\, der als &bdquo\;beh&auml\;nde\, flink\, gewandt\, regsam\, gesch&auml\;ftig&ldquo\;* - sprich als &bdquo\;agil&ldquo\; &ndash\; gilt\, f&uuml\;r die Zukunft gewappnet ist.Auch eine &bdquo\;agile&ldquo\; Organisation wird dabei als Antwort auf viele kommende Herausforderungen angesehen. Aber was wird darunter konkret verstanden bzw. was ist bei einer &bdquo\;agilen&ldquo\; Organisation vielleicht auch anders als bei einer &bdquo\;herk&ouml\;mmlichen&ldquo\;? In diesem Arbeitskreis sollen erste Grundlagen zum Thema agile Organisation geschaffen werden\, indem unsere Referenten m&ouml\;gliche agile Konzepte und Erfahrungen vorstellen. Dar&uuml\;ber hinaus st&auml\;rkt der Wandel zu einer agilen Organisationsform auch entscheidend das Lernen innerhalb der Organisation. Anhand eines Praxis-Beispiels zu lernenden Teams soll deutlich werden\, welche Wege eine Organisation gehen und welchen Herausforderungen sie sich dabei stellen muss\, um &uuml\;berhaupt kontinuierlich lernen zu k&ouml\;nnen. Bitte melden Sie sich bis zum 19. August 2015 an! \nWir freuen uns sehr auf Ihr Kommen!&gt\;&gt\; Agenda &amp\; Anmeldung\nVeranstaltungsort Communardo Software GmbH  Kleiststra&szlig\;e 10 a (im Kleistkarree) 01129 Dresden\nWeitere Informationen:zum Arbeitskreis Personalentwicklung\n&nbsp\;
END:VEVENT
END:VCALENDAR
