BEGIN:VCALENDAR
VERSION:2.0
PRODID:-//YourOrganization//EventDownload//DE
CALSCALE:GREGORIAN
METHOD:PUBLISH
BEGIN:VEVENT
UID:69e6054566c6d@leapup.bitshifters.cloud
DTSTAMP:20260420T125149Z
DTSTART:20190418T100000Z
DTEND:20190418T100000Z
SUMMARY:simone.braun@uni-tuebingen.de
DESCRIPTION:Die Wirtschaftsprüfungsgesellschaft EY stellt in ihren jährlichen Reports Zahlen und Fakten für die Biotechnologie-Branche zusammen. Daraus resultierende Analysen sind ein wichtiger Diskussionsbeitrag zum Status und Potential der deutschen Biotechnologie im weltweiten Wettbewerb.\nDie BioRegio STERN Management GmbH bietet Ihnen mit dieser Veranstaltung die Möglichkeit\, Hintergründe und Details aus dem druckfrischen Deutschen EY Biotechnologie-Report 2019 aus erster Hand zu erfahren und direkt mit Fachleuten zu diskutieren.\nDie Vorstellung des Reports in den Räumen des NMI Naturwissenschaftliches und Medizinisches Institut wird von zwei interessanten Vorträgen begleitet. Zum einen werden Informationen geliefert\, warum Australien ein attraktiver Standort für klinische Studien ist\, zum anderen berichtet ein erfolgreicher Entrepreneur und Investor von seinen Erfahrungen aus den verschiedenen Welten.\nAuch der diesjährige Biotechnologie-Report wird den Gästen aus Wirtschaft und Wissenschaft wieder reichlich Gesprächsstoff beim anschließenden Get Together liefern.\nUm Anmeldung bis zum 2. Mai wird gebeten.\n 
LOCATION:NMI Naturwissenschaftliches und Medizinisches Institut\, Markwiesenstraße 55\, 72770  Reutlingen
END:VEVENT
END:VCALENDAR
