BEGIN:VCALENDAR
VERSION:2.0
PRODID:-//YourOrganization//EventDownload//DE
CALSCALE:GREGORIAN
METHOD:PUBLISH
BEGIN:VEVENT
UID:69e687fdea1d3@leapup.bitshifters.cloud
DTSTAMP:20260420T220933Z
DTSTART:20151005T173000Z
DTEND:20151005T200000Z
SUMMARY:S+P-Unternehmerseminar „Fit für die Zukunft“ in Dresden
DESCRIPTION:\nDas Internet der Dinge &ndash\; Wie die n&auml\;chste gro&szlig\;e Technikrevolution den Mittelstand beeinflusst S+P-Unternehmerseminar &bdquo\;Fit f&uuml\;r die Zukunft&ldquo\; am 05. Oktober 2015 in Dresden\nSoziale Medien und mobile Kommunikation haben unseren Alltag revolutioniert. Doch die weitaus gr&ouml\;&szlig\;ere Revolution steht uns noch bevor &ndash\; das Internet der Dinge. Bereits heute sind mehr Gegenst&auml\;nde &uuml\;ber das Internet miteinander verbunden\, als Menschen auf der Erde leben. Der Laufschuh\, der seinen Kilometerstand und Abnutzungsgrad direkt an den Hersteller sendet\, ist keine Fiktion mehr. Das Internet der Dinge bietet unz&auml\;hlige M&ouml\;glichkeiten\, stellt die Wirtschaft aber auch vor gro&szlig\;e technologische und logistische Herausforderungen. Denn Dinge lassen sich nicht von verf&uuml\;hrerischen Werbebotschaften beeinflussen &ndash\; sie entscheiden ausschlie&szlig\;lich rational und h&ouml\;chstens nach allgemeinen Vorgaben ihres Besitzers. Wie diese Technikrevolution den Mittelstand beeinflusst\, diskutieren namhafte Experten am Montag\, den 05. Oktober 2015 um 18:00 Uhr im Hotel Westin Bellevue Dresden.\nBiosaxony-Mitglieder erhalten 50 Prozent Nachlass auf die regul&auml\;re Teilnahmegeb&uuml\;hr von 50 Euro pro Person (bitte vermerken Sie daf&uuml\;r Ihre Mitglied- bzw. Partnerschaft in Ihrer Anmeldung). Alle wesentlichen Informationen zum Programm der Veranstaltung sowie die M&ouml\;glichkeit zur Online-Anmeldung finden Sie online unter www.fitfuerdiezukunft.com. Anmeldeschluss ist der 30.&nbsp\;September 2015.\n&gt\;&gt\; Flyer\n
END:VEVENT
END:VCALENDAR
