BEGIN:VCALENDAR
VERSION:2.0
PRODID:-//YourOrganization//EventDownload//DE
CALSCALE:GREGORIAN
METHOD:PUBLISH
BEGIN:VEVENT
UID:69e6751314eff@leapup.bitshifters.cloud
DTSTAMP:20260420T204851Z
DTSTART:20160419T173000Z
DTEND:20160419T203000Z
SUMMARY:S+P-Unternehmerseminar "Fit für die Zukunft": Wertorientierte Markenführung im Mittelstand – so steigern Sie Ihren Unternehmenswert
DESCRIPTION:Wertorientierte Markenf&uuml\;hrung im Mittelstand &ndash\; so steigern Sie Ihren Unternehmenswert\nS+P-Unternehmerseminar "Fit f&uuml\;r die Zukunft" am 19. April 2016 in Dresden\nGro&szlig\;e Unternehmen investieren Millionenbetr&auml\;ge in Marketing und Werbung. Die dahinterliegenden Zielsetzungen sind vielf&auml\;ltig. Neben direkter Absatzsteigerung stehen oft auch strategische Ziele wie Kundenbindung\, Wissenstransfer oder Steigerung von Markenwerten im Mittelpunkt. In jedem Fall stellt sich dabei die Frage nach der Effektivit&auml\;t und Effizienz der eingesetzten Mittel\, denn selbstverst&auml\;ndlich m&uuml\;ssen sich auch Marketinginvestitionen &uuml\;ber kurz oder lang rechnen. \nMittelst&auml\;ndische Unternehmen\, die diesbez&uuml\;glich bereits handeln\, steigern nachweisbar ihren Marken- und Unternehmenswert und verschaffen sich so stabile Wettbewerbsvorteile gegen&uuml\;ber ihren Mitbewerbern. \nErfahren Sie in unserer n&auml\;chsten "Fit f&uuml\;r die Zukunft"-Veranstaltung am Dienstag\, den 19. April 2016 im Hilton Hotel Dresden\, wie Sie eine wertorientierte Markenf&uuml\;hrung umsetzen k&ouml\;nnen\, welchen konkreten Nutzen Sie davon haben und welche Managementaufgaben sich dabei f&uuml\;r Sie ergeben. \nbiosaxony-Vereinsmitglieder erhalten 50 Prozent Nachlass auf die regul&auml\;re Teilnahmegeb&uuml\;hr von 50 Euro pro Person (bitte vermerken Sie daf&uuml\;r Ihre Mitglied- bzw. Partnerschaft in Ihrer Anmeldung). Alle wesentlichen Informationen zum Programm der Veranstaltung sowie die M&ouml\;glichkeit zur Online-Anmeldung finden Sie online unter www.fitfuerdiezukunft.com. Anmeldeschluss ist der 12. April 2016.\nProgramm\n17:30 Uhr &ndash\; Empfang mit Begr&uuml\;&szlig\;ungsimbiss 18:00 Uhr &ndash\;&nbsp\;Begr&uuml\;&szlig\;ung &nbsp\;(Knut Michel\, S+P) - &ldquo\;Die monet&auml\;re Bewertung immaterieller Unternehmenswerte&rdquo\; (Calin Hertioga\, Interbrand) - &ldquo\;Marketing- und Kommunikationsma&szlig\;nahmen wertorientiert steuern&rdquo\; (Dr. Mark-Steffen Buchele\, buchele cc &amp\; communicationcontrolling.de) 19:15 Uhr &ndash\; Podiumsdiskussion mit den Referenten und Michael Eckstein\, Gesch&auml\;ftsf&uuml\;hrer 3m5. Media GmbH&nbsp\;(Moderation: Peter Stawowy\, stawowy media) 19:45 Uhr &ndash\; Get Together mit Fingerfood-Buffet\n&nbsp\;
LOCATION:Hilton Hotel Dresden\, Congress Center\, An der Frauenkirche\, 01067 Dresden
END:VEVENT
END:VCALENDAR
