BEGIN:VCALENDAR
VERSION:2.0
PRODID:-//YourOrganization//EventDownload//DE
CALSCALE:GREGORIAN
METHOD:PUBLISH
BEGIN:VEVENT
UID:69e52a10d05e4@leapup.bitshifters.cloud
DTSTAMP:20260419T211632Z
DTSTART:20240618T160000Z
DTEND:20240618T190000Z
SUMMARY:Stammtisch Life Science - KI in der Biotechnologie
DESCRIPTION:K&uuml\;nstliche Intelligenz (KI) findet sich in einer wachsenden Zahl von Anwendungen\, so auch im Bereich der Biotechnologie\n\nOb bei sensorischen Anwendungen zur&nbsp\;Auswertung\, in der Produktion zur Planung und Qualit&auml\;tskontrolle oder als vollautomatisierter Gesundheitskiosk &ndash\; die Anwendungsbreite ist vielf&auml\;ltig. &bdquo\;Wir!&nbsp\; sind&nbsp\; DIANA&ldquo\; stellt dazu einiges vor.\nUm k&uuml\;nstliche Intelligenz im Unternehmen zu etablieren &ndash\; KI-Guides k&ouml\;nnen daf&uuml\;r Wegbereiter sein. Lernen&nbsp\;Sie&nbsp\;die&nbsp\;Grundlagen und&nbsp\;Anwendungsm&ouml\;glichkeit der&nbsp\; k&uuml\;nstlichen&nbsp\;Intelligenz kennen\, um diese in KMU anzuwenden. Das Projekt soll Impulse geben\, um digitale KI&shy\;Strategien entwickeln zu k&ouml\;nnen. Daf&uuml\;r werden die ben&ouml\;tigten Kompetenzen vermittelt und das n&ouml\;tige Handwerkszeug mitgegeben.\nAuch&nbsp\; 2024 pr&auml\;sentiert EY wieder den Biotech Report zum Status Quo der Branche. Ein besonderes&nbsp\;Augenmerk&nbsp\;richtet&nbsp\;der&nbsp\;Report&nbsp\;in&nbsp\;diesem Jahr auf das Thema&nbsp\; KI: Welche Chancen\, Herausforderungen&nbsp\;und&nbsp\;Risiken&nbsp\;sind&nbsp\;mit&nbsp\;dem&nbsp\;Einsatz&nbsp\;von&nbsp\;KI&nbsp\; in&nbsp\;der&nbsp\;Biotechnologie&nbsp\;verbunden?\n\nRundgang 1 im IZI\nDIENSTAG 18.06.2024 / 16:00 UHR - 17:00 UHR\nRundgang 2 im IZI\nDIENSTAG 18.06.2024 / 16:00 UHR - 17:00 UHR\nStammtisch Life Science\nDIENSTAG 18.06.2024 / 17:00 UHR - 19:00 UHR\nWeitere Informationen und zur Anmeldung
LOCATION:Fraunhofer-Institut für Zelltherapie und Immunologie IZI\, Perlickstraße 1\, 04103 Leipzig
END:VEVENT
END:VCALENDAR
