BEGIN:VCALENDAR
VERSION:2.0
PRODID:-//YourOrganization//EventDownload//DE
CALSCALE:GREGORIAN
METHOD:PUBLISH
BEGIN:VEVENT
UID:69e4c8978a1f9@leapup.bitshifters.cloud
DTSTAMP:20260419T142039Z
DTSTART:20250909T090000Z
DTEND:20250910T160000Z
SUMMARY:Swiss Medtech Expo 2025
DESCRIPTION:Die Swiss Medtech Expo ist der Treffpunkt für die Medizintechnik in der Schweiz. 200 Aussteller aus dem In- und Ausland präsentieren ihre Produkte und Lösungen für die Entwicklung und Herstellung von Medizintechnik.\nHier treffen sich Entscheidungsträgerinnen und Entscheidungsträger von Herstellerfirmen und Inverkehrbringern mit führenden System- und Komponentenlieferanten\, spezialisierten Dienstleistern sowie Forschungs- und Bildungsinstituten.\nWeitere Informationen zur Messe sowie den Ticketerwerb finden Sie hier.
LOCATION:Messe Luzern\, Horwerstraße 87\, 6005 Luzern
END:VEVENT
END:VCALENDAR
