BEGIN:VCALENDAR
VERSION:2.0
PRODID:-//YourOrganization//EventDownload//DE
CALSCALE:GREGORIAN
METHOD:PUBLISH
BEGIN:VEVENT
UID:69e55466ba5c7@leapup.bitshifters.cloud
DTSTAMP:20260420T001710Z
DTSTART:20230912T000000Z
DTEND:20230913T000000Z
SUMMARY:Swiss Medtech Expo in Luzern
DESCRIPTION:Mitte September treffen sich in Luzern die Entscheidungstr&auml\;ger von Herstellerfirmen mit f&uuml\;hrenden System- und Komponentenlieferanten\, spezialisierte Dienstleister sowie Forschungs- und Bildungsinstitute. Damit deckt die Swiss Medtech Expo die gesamte Wertsch&ouml\;pfungskette ab. Rund 170 Aussteller zeigen anwendungsorientiert auf\, wo die Medizintechnik aktuell steht und was es Neues aus den Bereichen Design\, Materialien\, Technologien und Prozessen gibt.\nJetzt anmelden!
LOCATION:Messe Luzern AG \, Horwerstrasse 87 \, 6005  Luzern 
END:VEVENT
END:VCALENDAR
