BEGIN:VCALENDAR
VERSION:2.0
PRODID:-//YourOrganization//EventDownload//DE
CALSCALE:GREGORIAN
METHOD:PUBLISH
BEGIN:VEVENT
UID:69e55466bc9bc@leapup.bitshifters.cloud
DTSTAMP:20260420T001710Z
DTSTART:20230418T100000Z
DTEND:20230418T164500Z
SUMMARY:Symposium "Cybersecurity bei Medizinprodukten"
DESCRIPTION:In der Medizintechnik sind ganzheitliche Sicherheitskonzepte gefordert.&nbsp\;\nNeben Betriebssicherheit (Safety) ist\, wie die Erfahrungen der j&uuml\;ngsten Zeit zeigen\, in zunehmendem Ma&szlig\;e die Informationssicherheit (Cybersecurity) zu ber&uuml\;cksichtigen.&nbsp\;\nAls Pr&auml\;senzveranstaltung in Frankfurt bietet das VDE-Symposium &ldquo\;Cybersecurity im Lebenszyklus von Medizinprodukten&rdquo\; neben Beitr&auml\;gen mit Erfahrungsberichten und L&ouml\;sungen f&uuml\;r konkrete Probleme aus technischer\, rechtlicher oder organisatorischer Sicht auch eine Plattform f&uuml\;r Erfahrungsaustausch und Networking.&nbsp\;\nEs richtet sich an Hersteller\, die im Rahmen ihrer Entwicklungst&auml\;tigkeiten die Grundlagen f&uuml\;r Cybersecurity legen\, an die Betreiber\, denn nur durch sie kann der sichere Betrieb dann auch gew&auml\;hrleistet werden und an Mitarbeiter von Benannten Stellen und Beh&ouml\;rden\, welche die Produkte und damit die Cybersecurity beurteilen m&uuml\;ssen.&nbsp\;\nWeitere Informationen
LOCATION:Haus am Dom\, Domplatz 3\, 60311 Frankfurt (Main)
END:VEVENT
END:VCALENDAR
