BEGIN:VCALENDAR
VERSION:2.0
PRODID:-//YourOrganization//EventDownload//DE
CALSCALE:GREGORIAN
METHOD:PUBLISH
BEGIN:VEVENT
UID:69e512ef0e0a7@leapup.bitshifters.cloud
DTSTAMP:20260419T193751Z
DTSTART:20250226T090000Z
DTEND:20250226T163000Z
SUMMARY:Symposium der Nationalen Kontaktstelle (NKS) Gesundheit zum Thema „Cluster Gesundheit im Fokus – Erfahrungen und Perspektiven zur Digitalisierung in der Gesundheitsforschung“
DESCRIPTION:Das Symposium richtet sich an Antragstellende\, Multiplikatorinnen und Multiplikatoren sowie alle\, die an Verbundforschung im Themenfeld Gesundheit des Horizont-Europa-Programms interessiert sind.\nDie Digitalisierung gewinnt in der Gesundheitsforschung und in der Versorgung immer mehr an Bedeutung. Daher wird das Motto dieser Veranstaltung &bdquo\;Cluster&nbsp\;Gesundheit im Fokus &ndash\; Erfahrungen und Perspektiven zur Digitalisierung in der Gesundheitsforschung&ldquo\; sein.\nEin Vertreter der&nbsp\;Europ&auml\;ischen Kommission aus der Generaldirektion &bdquo\;Kommunikationsnetze\, Inhalte und Technologien&ldquo\;&nbsp\;wird Hintergr&uuml\;nde der&nbsp\;Digitalisierungs-Strategie der&nbsp\;EU&nbsp\;und den &bdquo\;European Health Data Space&ldquo\; (EDHS)&nbsp\;vorstellen. Ein(e) Vertreter(in) der TMF wird darstellen\, wie deutsche Einrichtungen sich auf den&nbsp\;EDHS&nbsp\;einstellen. Weiterhin werden Expertinnen und Experten mit&nbsp\;Praxisbeispielen aus&nbsp\;EU-Projekten&nbsp\;die Digitalisierung in der Gesundheitsforschung und Chancen sowie Gefahren von K&uuml\;nstlicher Intelligenz (KI) veranschaulichen. In einer Podiumsdiskussion soll der Austausch intensiviert werden.\nEs findet von&nbsp\;09:00 Uhr bis 16:30 Uhr in K&ouml\;ln als Pr&auml\;senzveranstaltung&nbsp\;statt\; es gibt&nbsp\;keine M&ouml\;glichkeit zur&nbsp\;Online-Teilnahme.\nDie Teilnahme ist kostenfrei.\nZur Agenda\nAnmeldung&nbsp\;ist bis zum&nbsp\;21. Februar 2025 m&ouml\;glich.
LOCATION: KOMED Mediapark\, Im Mediapark 7\, 50670 Köln
END:VEVENT
END:VCALENDAR
