BEGIN:VCALENDAR
VERSION:2.0
PRODID:-//YourOrganization//EventDownload//DE
CALSCALE:GREGORIAN
METHOD:PUBLISH
BEGIN:VEVENT
UID:69e4fd6e71e25@leapup.bitshifters.cloud
DTSTAMP:20260419T180606Z
DTSTART:20241120T100000Z
DTEND:20241120T164500Z
SUMMARY:Symposium Künstliche Intelligenz (KI) in Medizinprodukten
DESCRIPTION:Bei unserem 4. Symposium &bdquo\;K&uuml\;nstliche Intelligenz (KI) in Medizinprodukten&ldquo\; in Frankfurt/Main widmen wir uns wieder aktuellen Themen und Herausforderungen.&nbsp\;\nDer Europ&auml\;ische&nbsp\;Artificial Intelligence Act (AIA)&nbsp\;wird in K&uuml\;rze in Kraft treten und erh&ouml\;ht die gesetzlichen Anforderungen an KI-basierte Medizinprodukte wie RAin&nbsp\;Dr. Zeynep Schreitm&uuml\;ller (Produktkanzlei\, Augsburg) erl&auml\;utern wird.&nbsp\;&nbsp\;\nKlinische Pr&uuml\;fungen stellen insbesondere f&uuml\;r neuartige Medizinprodukte die wichtigste Quelle f&uuml\;r klinische Daten dar\, die im Rahmen der klinischen Bewertung analysiert werden. Unsere Referent*innen Dr. Gabriele Feldmann und Dr. Kirsten Dahm\, (AMS Advanced Medical Services GmbH\, Mannheim) werden &uuml\;ber die Erfahrungen in Bezug auf Medizinproduktesoftware und KI aus der Sicht einer CRO berichten.&nbsp\;\nAus der Perspektive internationaler Regulatoren wie EU\, FDA\, MHRA und Health Canada ist die&nbsp\;Post-Market Surveillance (PMS)&nbsp\;eine wesentliche Voraussetzung f&uuml\;r sichere und leistungsf&auml\;hige KI-basierte Medizinprodukte. Entsprechende Anforderungen und L&ouml\;sungsans&auml\;tze wird Dr. Thorsten Prinz (VDE\, Offenbach/Main) pr&auml\;sentieren.&nbsp\;\nHersteller von Medizinprodukten haben seit einigen Jahren umfangreiche Erfahrungen bei der Umsetzung der Europ&auml\;ischen&nbsp\;Medizinprodukteverordnung (MDR) gesammelt. Weltweit entstehen in Bezug auf die KI-Technologie weitere Anforderungen und Standards. Dr. Jasmine Schirmer (Carl Zeiss Meditec AG\, M&uuml\;nchen) wird in Bezug auf ihr Unternehmen darlegen\, wie sie die&nbsp\;praktische Umsetzung regulatorischen Herausforderungen an KI-basierte Medizinprodukte&nbsp\;gelingen kann.&nbsp\;\nIn K&uuml\;rze wird diese Ank&uuml\;ndigung auch einen Abschnitt zum letzten Vortrag enthalten.&nbsp\;\nWir freuen uns darauf\, Sie in Frankfurt/Main begr&uuml\;&szlig\;en zu d&uuml\;rfen!&nbsp\;\nMEHR
LOCATION:Haus am Dom\, Domplatz 3\, 60311 Frankfurt am Main
END:VEVENT
END:VCALENDAR
