BEGIN:VCALENDAR
VERSION:2.0
PRODID:-//YourOrganization//EventDownload//DE
CALSCALE:GREGORIAN
METHOD:PUBLISH
BEGIN:VEVENT
UID:69e4c8be05685@leapup.bitshifters.cloud
DTSTAMP:20260419T142118Z
DTSTART:20250515T135500Z
DTEND:20250515T151500Z
SUMMARY:Tec Talk Medical Engineering: KI in der Radiologie
DESCRIPTION:Tec Talk Medical Engineering betrachtet regelm&auml\;&szlig\;ig State-of-the-Art-Produkte\, neueste Trends in Forschung und Entwicklung sowie innovative Technologien f&uuml\;r die Entwicklung und Herstellung von Medizintechnik. Dieses Mal liegt der Fokus auf dem KI in der Radiologie.\nDie Radiologie dominiert die medizinischen Anwendungsfelder f&uuml\;r KI-basierte Medizinprodukte. Bis August 2024 lag der Anteil der Produkte f&uuml\;r die Radiologie in den USA&nbsp\;bei 76 %. Die Website &bdquo\;Health AI Register&ldquo\; listet 85 CE-gekennzeichnete KI-Systeme f&uuml\;r die Radiologie auf.&nbsp\;\nIm ersten Vortrag von Julia Moosbauer (deepc GmbH\, M&uuml\;nchen)\, erfahren Sie\, welche KI-basierten Produkte mit unterschiedlichen Herausforderungen bereits in der Radiologie eingesetzt werden und mit welchen neuen Technologien aus der Forschung wir zuk&uuml\;nftig rechnen m&uuml\;ssen.&nbsp\;\nJan Beger (GE HealthCare\, Chicago)\, geht in seinem Vortrag auf Anwendungsf&auml\;lle und Forschung im Bereich generative KI und Basismodelle im Gesundheitswesen ein.&nbsp\;\nWir freuen uns auf Ihre Teilnahme!\nHier finden Sie weitere Informationen.
LOCATION:MS Teams\, Offenbach am Main
END:VEVENT
END:VCALENDAR
