BEGIN:VCALENDAR
VERSION:2.0
PRODID:-//YourOrganization//EventDownload//DE
CALSCALE:GREGORIAN
METHOD:PUBLISH
BEGIN:VEVENT
UID:69e4c86bae580@leapup.bitshifters.cloud
DTSTAMP:20260419T141955Z
DTSTART:20250212T140000Z
DTEND:20250212T151500Z
SUMMARY:Tec Talk Medical Engineering: Testen von KI-Systemen
DESCRIPTION:Tec Talk Medical Engineering&nbsp\;betrachtet regelm&auml\;&szlig\;ig State-of-the-Art-Produkte\, neueste Trends in Forschung und Entwicklung sowie innovative Technologien f&uuml\;r die Entwicklung und Herstellung von Medizintechnik. Dieses Mal liegt der Fokus auf dem&nbsp\;Testen von KI-Systemen in der Medizin&nbsp\;vor der Markteinf&uuml\;hrung\, um mit Blick auf die Patienten und Patientinnen die&nbsp\;Sicherheit und Leistungsf&auml\;higkeit&nbsp\;gew&auml\;hrleisten zu k&ouml\;nnen.&nbsp\;&nbsp\;\nDas Testen von KI-System dient sowohl der Leistungsoptimierung w&auml\;hrend der Entwicklung als auch der Bewertung w&auml\;hrend der Verifizierungs- und Validierungsphase. Im ersten Vortrag erfahren Sie\, wie&nbsp\;Tools zum Testen von KI-Systemen&nbsp\;sinnvoll und effizient eingesetzt werden k&ouml\;nnen. &nbsp\;Eine gro&szlig\; angelegte Studie von Apple &uuml\;ber die kognitiven F&auml\;higkeiten mehrerer hochmoderner Large Language Model (LLM) und weitere Publikationen legen nahe\, dass der Einsatz von LLM in der Medizin problematisch sein kann. Im zweiten Vortrag besch&auml\;ftigen wir uns deshalb mit&nbsp\;Test-Strategien f&uuml\;r medizinische Applikationen mit LLM\, welche die Vertrauensw&uuml\;rdigkeit belegen sollen.&nbsp\;\nWir freuen uns auf Ihre Teilnahme!&nbsp\;\nWeitere Informationen
LOCATION:MS Teams\, Offenbach am Main
END:VEVENT
END:VCALENDAR
