BEGIN:VCALENDAR
VERSION:2.0
PRODID:-//YourOrganization//EventDownload//DE
CALSCALE:GREGORIAN
METHOD:PUBLISH
BEGIN:VEVENT
UID:69e4e2bc238ad@leapup.bitshifters.cloud
DTSTAMP:20260419T161212Z
DTSTART:20251021T000000Z
DTEND:20251022T000000Z
SUMMARY:Technologiekonferenz elmug4future 2025 in Jena: Messtechnik für Life Science: Märkte\, Anforderungen und Lösungen
DESCRIPTION:„Im Leben wie in der Messtechnik: Nur wer die richtigen Parameter wählt\, bekommt ein sinnvolles Ergebnis.“\nDie Sensorik und Messtechnik zählen zu den Innovationstreibern in allen Anwendungsbereichen\, die sich mit den Strukturen und Prozessen des Lebens befassen. Dazu gehören z. B. Präzisionsdiagnostik\, personalisierte Therapie schwerer Erkrankungen und KI-gestützte interaktive mechatronische Systeme bei Operationen oder in der Patientenpflege. Fortlaufende Qualitätsüberwachung\, Datenintegrität und vorbeugende Instandhaltung in der Produktion und Logistik sind wichtige Erfolgsfaktoren.\nKontinuierliche Innovation und interdisziplinäre Zusammenarbeit eröffnen gerade in einem durch Kostendruck und Fachkräftemangel bedrohten Industrieumfeld große Wettbewerbsvorteile. Neben der Entwicklung einer gemeinsamen Fachsprache und dem interaktiven Austausch dient die Integration neuer Technologien in lebensnahe Anwendungen als entscheidender Impuls zur Diversifizierung. Sie schaffen bedeutenden Mehrwert in dem Zukunftsmarkt der Gesundheitsversorgung – einschließlich der dazugehörigen Produktions- und Prüftechnologien.\nDer Call for Papers lädt Experten aus Forschung und Industrie ein\, ihre neuesten Erkenntnisse und Erfahrungen für verschiedene Anwendungen vorzustellen.\nWir suchen Beiträge\, die sich mit folgenden Themen rund um Medizintechnik sowie Pharma- und Biotechnologie beschäftigen\, jedoch nicht darauf beschränkt sind:\n- Aktive Medizinprodukte- In-vivo- und In-vitro-Diagnostik-Systeme- Point-of-Care-Diagnostik- Biosensoren- Low-Power-Sensorsysteme- Produktions- Prüf- und Messtechnik für Herstellung und Logistik- Sensorik für In-Prozesskontrollen und vorbeugende Instandhaltung- Robotik und Assistenzsysteme\, z. B. für Operationstechnik oder Pflege- Rechtliche Anforderungen an Medizinprodukte- Medizinprodukte-Lebenszyklus- Cyber Security bei Medizinprodukten- Gesundheit 4.0: Smarte Lösungen für Medizin und Umweltüberwachung- Marktpotenzial „Wellness und gesundes Leben“\nFür weitere Informationen zur Veranstaltung\, klicken Sie hier.
LOCATION:Ernst-Abbe-Hochschule Jena\, Carl-Zeiß-Promenade 2\, 07745 Jena
END:VEVENT
END:VCALENDAR
