BEGIN:VCALENDAR
VERSION:2.0
PRODID:-//YourOrganization//EventDownload//DE
CALSCALE:GREGORIAN
METHOD:PUBLISH
BEGIN:VEVENT
UID:69e4fd6e71e25@leapup.bitshifters.cloud
DTSTAMP:20260419T180606Z
DTSTART:20250508T090000Z
DTEND:20250510T170000Z
SUMMARY:therapie Leipzig - Fachmesse mit Kongress für Therapie\, medizinische Rehabilitation und Prävention
DESCRIPTION:Die therapie LEIPZIG ist die f&uuml\;hrende Fachmesse mit Kongress f&uuml\;r Therapie\, medizinische Rehabilitation und Pr&auml\;vention im deutschsprachigen Raum. Alle zwei Jahre bietet sie einen umfassenden Markt&uuml\;berblick und pr&auml\;sentiert Neuheiten\, Produkte und Dienstleistungen f&uuml\;r eine moderne und nachhaltige Patientenbehandlung.\nDer Kongress der therapie LEIPZIG ist mit 3.000 Teilnehmern die gr&ouml\;&szlig\;te Fortbildungsveranstaltung der deutschsprachigen Branche. Er zeichnet sich durch ein interdisziplin&auml\;res und praxisorientiertes Programm aus. Mehr als 200 Seminare\, Workshops und Fachvortr&auml\;ge vermitteln hochaktuelles Wissen und erm&ouml\;glichen eine zertifizierte Fortbildung.\nAusstellungsbereiche sind:\n\nTherapieger&auml\;te f&uuml\;r Physiotherapie und physikalische Therapie\nRehabilitationsger&auml\;te\, -einrichtungen und -hilfsmittel\nFitness- und Trainingstherapieger&auml\;te\nTherapieger&auml\;te und Ausstattung f&uuml\;r Ergotherapie und Logop&auml\;die\nAusstattung f&uuml\;r Podologie\nBeratung und Dienstleistungen\nAusbildung\, Fort- und Weiterbildung\n\n... und viele mehr!\nWeitere Informationen f&uuml\;r Besucher gibt es hier!\nIhr wollt ausstellen? Dann gibt es hier Informationen f&uuml\;r euch!
LOCATION:Leipziger Messe GmbH\, Messe-Allee 1 (Halle 1 & 3)\, 04356 Leipzig
END:VEVENT
END:VCALENDAR
