BEGIN:VCALENDAR
VERSION:2.0
PRODID:-//YourOrganization//EventDownload//DE
CALSCALE:GREGORIAN
METHOD:PUBLISH
BEGIN:VEVENT
UID:69e4cefcd3e6b@leapup.bitshifters.cloud
DTSTAMP:20260419T144756Z
DTSTART:20250604T150000Z
DTEND:20250605T160000Z
SUMMARY:TI-Summit 2025 - Messekongress rund um die Telematikinfrastruktur
DESCRIPTION:\nDas Heute und Morgen des digitalen Gesundheitssystems in Deutschland.\n&nbsp\;\n\n\nDer TI-Summit 2025 ist der erste gro&szlig\;e Messekongress und Branchengipfel\, bei dem sich alles rund um die Themenfelder der gematik und die Anwendungen der&nbsp\;Telematikinfrastruktur (TI &amp\; TI 2.0)&nbsp\;dreht - von&nbsp\;ePA&nbsp\;und&nbsp\;E-Rezept&nbsp\;&uuml\;ber&nbsp\;KIM&nbsp\;und&nbsp\;TI-Messenger&nbsp\;bis hin zu&nbsp\;DiGA&nbsp\;sowie&nbsp\;GesundheitsID&nbsp\;u.v.m.\nIm Sommer 2025 schaffen wir in Leipzig Raum f&uuml\;r mehr als 800 Expert:innen aus allen Sektoren des Gesundheitswesens\, um sich im Sinne eines gemeinsam zu gestaltenden\,&nbsp\;zukunftsgerichteten Gesundheitssystems&nbsp\;zu informieren\, zu inspirieren und auszutauschen.\nUnser Ziel: Br&uuml\;cken bauen und&nbsp\;Menschen zusammenbringen&nbsp\;- mit den wegweisenden Anwendungen der Digitalagentur Gesundheit als Bindeglied zwischen allen beteiligten Akteuren und Berufsgruppen.​\n&nbsp\;\nWeitere Informationen zum TI-Summit 2025 gibt's hier.\n
LOCATION:KONGRESSHALLE am Zoo Leipzig\, Pfaffendorfer Straße 31\, 04105 Leipzig
END:VEVENT
END:VCALENDAR
