BEGIN:VCALENDAR
VERSION:2.0
PRODID:-//YourOrganization//EventDownload//DE
CALSCALE:GREGORIAN
METHOD:PUBLISH
BEGIN:VEVENT
UID:69e6c3b798a93@leapup.bitshifters.cloud
DTSTAMP:20260421T022423Z
DTSTART:20141028T000000Z
DTEND:20141028T000000Z
SUMMARY:transHAL2014 - Wissenschaft trifft Wirtschaft
DESCRIPTION:transHAL&nbsp\;ist ein Veranstaltungsformat der Martin-Luther-Universit&auml\;t Halle-Wittenberg und der Stadt Halle (Saale)\, das zur&nbsp\;Vernetzung&nbsp\;von Akteuren ausWissenschaft\, Wirtschaft&nbsp\;und&nbsp\;Verwaltung&nbsp\;beitr&auml\;gt und&nbsp\;Kooperationenzwischen diesen anregen soll. Dadurch werden positive Effekte f&uuml\;r die StadtHalle\, die Region&nbsp\;Mitteldeutschland&nbsp\;sowie f&uuml\;r alle beteiligten Unternehmen und Wissenschaftseinrichtungen erzielt.\nWir laden Wissenschaftler und Unternehmer herzlich dazu ein\, sich an der transHAL2014 aktiv zu beteiligen und zu vernetzen.
END:VEVENT
END:VCALENDAR
