BEGIN:VCALENDAR
VERSION:2.0
PRODID:-//YourOrganization//EventDownload//DE
CALSCALE:GREGORIAN
METHOD:PUBLISH
BEGIN:VEVENT
UID:69e8013d75c92@leapup.bitshifters.cloud
DTSTAMP:20260422T005909Z
DTSTART:20150304T170000Z
DTEND:20150304T190000Z
SUMMARY:Treffen der AG Aus-und Weiterbildung des biosaxony e. V. am 04.03.2015
DESCRIPTION:Die S&auml\;chsische Bildungsgesellschaft f&uuml\;r Umweltschutz und Chemieberufe Dresden mbH und biosaxony laden Sie recht herzlich zum kommenden Treffen der AG Aus- und Weiterbildung ein.\nDas Treffen findet am Mittwoch\, den 04.03.2015 um 17.00 Uhr an der S&auml\;chsischen Bildungsgesellschaft f&uuml\;r Umweltschutz und Chemieberufe Dresden mbH Gutenbergstr. 6\, 01307 Dresden im Seminarraum 2 statt.\nThematisch steht die zuk&uuml\;nftige Gestaltung der Arbeitsgruppe im Mittelpunkt.\nEs wird um Anmeldung bis 25.02.2015 gebeten
END:VEVENT
END:VCALENDAR
